BEGIN:VCALENDAR
VERSION:2.0
PRODID:icalendar-ruby
CALSCALE:GREGORIAN
METHOD:PUBLISH
BEGIN:VTIMEZONE
TZID:Australia/Melbourne
BEGIN:DAYLIGHT
DTSTART:20201004T030000
TZOFFSETFROM:+1000
TZOFFSETTO:+1100
RRULE:FREQ=YEARLY;BYDAY=1SU;BYMONTH=10
TZNAME:AEDT
END:DAYLIGHT
BEGIN:STANDARD
DTSTART:20210404T020000
TZOFFSETFROM:+1100
TZOFFSETTO:+1000
RRULE:FREQ=YEARLY;BYDAY=1SU;BYMONTH=4
TZNAME:AEST
END:STANDARD
END:VTIMEZONE
BEGIN:VEVENT
DTSTAMP:20210301T031626Z
UID:inspection_936105
DTSTART;TZID=Australia/Melbourne:20210306T141500
DTEND;TZID=Australia/Melbourne:20210306T144500
CLASS:PUBLIC
CREATED:20210301T092109
DESCRIPTION: 
LAST-MODIFIED:20210301T092109
LOCATION:317 Old Highlands Road\, HIGHLANDS VIC 3660\, Australia
SUMMARY:317 Old Highlands Road\,  Inspection
URL:http://www.darobinson.com.au/
END:VEVENT
END:VCALENDAR
